View In:
ArcGIS JavaScript
ArcGIS Online Map Viewer
ArcGIS Earth
Service Description: GEOS450_Capstone_Group4_Custom_Tools/Mosaic_Raster_1
Name: GEOS450_Capstone_Group4_Custom_Tools/Mosaic_Raster_1
Description:
Single Fused Map Cache: false
Extent:
XMin: 626125
YMin: 5460120
XMax: 656635
YMax: 5499080
Spatial Reference: 32611
(32611)
Initial Extent:
XMin: 626125
YMin: 5460120
XMax: 656635
YMax: 5499080
Spatial Reference: 32611
(32611)
Full Extent:
XMin: 626125
YMin: 5460120
XMax: 656635
YMax: 5499080
Spatial Reference: 32611
(32611)
Pixel Size X: 5.0
Pixel Size Y: 5.0
Band Count: 5
Pixel Type: U16
RasterFunction Infos: {"rasterFunctionInfos": [{
"name": "None",
"description": "",
"help": ""
}]}
Mensuration Capabilities: Basic
Inspection Capabilities:
Has Histograms: true
Has Colormap: false
Has Multi Dimensions : false
Rendering Rule:
Min Scale: 0
Max Scale: 0
Copyright Text:
Service Data Type: esriImageServiceDataTypeGeneric
Min Values: 1, 1, 15, 45, 72
Max Values: 9948, 10737, 13379, 13730, 13126
Mean Values: 1634.3265658320609, 1906.0016196902957, 1944.630323746823, 2263.7386287490367, 2916.6164368172695
Standard Deviation Values: 2019.1203746939254, 2072.3724316401695, 2081.832453464355, 1991.3240455673947, 1663.278141866369
Object ID Field:
Fields:
None
Default Mosaic Method: Center
Allowed Mosaic Methods:
SortField:
SortValue: null
Mosaic Operator: First
Default Compression Quality: 75
Default Resampling Method: Bilinear
Max Record Count: null
Max Image Height: 4100
Max Image Width: 15000
Max Download Image Count: null
Max Mosaic Image Count: null
Allow Raster Function: true
Allow Copy: true
Allow Analysis: true
Allow Compute TiePoints: false
Supports Statistics: false
Supports Advanced Queries: false
Use StandardizedQueries: true
Raster Type Infos:
Name: Raster Dataset
Description: Supports all ArcGIS Raster Datasets
Help:
Has Raster Attribute Table: false
Edit Fields Info: null
Ownership Based AccessControl For Rasters: null
Child Resources:
Info
Histograms
Statistics
Key Properties
Legend
Raster Function Infos
Supported Operations:
Export Image
Identify
Measure
Compute Histograms
Compute Statistics Histograms
Get Samples
Compute Class Statistics
Query Boundary
Compute Pixel Location
Compute Angles
Validate
Project