View In:
ArcGIS JavaScript
ArcGIS Online Map Viewer
ArcGIS Earth
Service Description: GEOS450_Capstone_Group4_Custom_Tools/MosicClip_2013
Name: GEOS450_Capstone_Group4_Custom_Tools/MosicClip_2013
Description:
Single Fused Map Cache: false
Extent:
XMin: 629835
YMin: 5462290
XMax: 655035
YMax: 5498490
Spatial Reference: 32611
(32611)
Initial Extent:
XMin: 629835
YMin: 5462290
XMax: 655035
YMax: 5498490
Spatial Reference: 32611
(32611)
Full Extent:
XMin: 629835
YMin: 5462290
XMax: 655035
YMax: 5498490
Spatial Reference: 32611
(32611)
Pixel Size X: 5.0
Pixel Size Y: 5.0
Band Count: 5
Pixel Type: U16
RasterFunction Infos: {"rasterFunctionInfos": [{
"name": "None",
"description": "",
"help": ""
}]}
Mensuration Capabilities: Basic
Inspection Capabilities:
Has Histograms: true
Has Colormap: false
Has Multi Dimensions : false
Rendering Rule:
Min Scale: 0
Max Scale: 0
Copyright Text:
Service Data Type: esriImageServiceDataTypeGeneric
Min Values: 1, 1, 15, 108, 72
Max Values: 9500, 10737, 13379, 13730, 13126
Mean Values: 979.6355309002573, 1229.5356766358695, 1275.0682789815278, 1612.019973305565, 2382.883231314317
Standard Deviation Values: 1566.5176456201348, 1602.6992888004452, 1608.1067895362335, 1540.749849243849, 1310.6871824570808
Object ID Field:
Fields:
None
Default Mosaic Method: Center
Allowed Mosaic Methods:
SortField:
SortValue: null
Mosaic Operator: First
Default Compression Quality: 75
Default Resampling Method: Bilinear
Max Record Count: null
Max Image Height: 4100
Max Image Width: 15000
Max Download Image Count: null
Max Mosaic Image Count: null
Allow Raster Function: true
Allow Copy: true
Allow Analysis: true
Allow Compute TiePoints: false
Supports Statistics: false
Supports Advanced Queries: false
Use StandardizedQueries: true
Raster Type Infos:
Name: Raster Dataset
Description: Supports all ArcGIS Raster Datasets
Help:
Has Raster Attribute Table: false
Edit Fields Info: null
Ownership Based AccessControl For Rasters: null
Child Resources:
Info
Histograms
Statistics
Key Properties
Legend
Raster Function Infos
Supported Operations:
Export Image
Identify
Measure
Compute Histograms
Compute Statistics Histograms
Get Samples
Compute Class Statistics
Query Boundary
Compute Pixel Location
Compute Angles
Validate
Project