View In:
ArcGIS JavaScript
ArcGIS Online Map Viewer
ArcGIS Earth
Service Description: GEOS450_Capstone_Group4_Custom_Tools/NDWI_Test2_tif
Name: GEOS450_Capstone_Group4_Custom_Tools/NDWI_Test2_tif
Description:
Single Fused Map Cache: false
Extent:
XMin: -1.2824729580393339E7
YMin: 6325781.984311254
XMax: -1.278598633605679E7
YMax: 6380776.371057431
Spatial Reference: 102100
(3857)
Initial Extent:
XMin: -1.2824729580393339E7
YMin: 6325781.984311254
XMax: -1.278598633605679E7
YMax: 6380776.371057431
Spatial Reference: 102100
(3857)
Full Extent:
XMin: -1.2824729580393339E7
YMin: 6325781.984311254
XMax: -1.278598633605679E7
YMax: 6380776.371057431
Spatial Reference: 102100
(3857)
Pixel Size X: 7.965305167876068
Pixel Size Y: 7.8373075026617425
Band Count: 1
Pixel Type: F32
RasterFunction Infos: {"rasterFunctionInfos": [{
"name": "None",
"description": "",
"help": ""
}]}
Mensuration Capabilities: Basic
Inspection Capabilities:
Has Histograms: true
Has Colormap: false
Has Multi Dimensions : false
Rendering Rule:
Min Scale: 0
Max Scale: 0
Copyright Text:
Service Data Type: esriImageServiceDataTypeGeneric
Min Values: -0.99734044075012
Max Values: 0.72736519575119
Mean Values: -0.47018917596573
Standard Deviation Values: 0.24533198961291
Object ID Field:
Fields:
None
Default Mosaic Method: Center
Allowed Mosaic Methods:
SortField:
SortValue: null
Mosaic Operator: First
Default Compression Quality: 75
Default Resampling Method: Bilinear
Max Record Count: null
Max Image Height: 4100
Max Image Width: 15000
Max Download Image Count: null
Max Mosaic Image Count: null
Allow Raster Function: true
Allow Copy: true
Allow Analysis: true
Allow Compute TiePoints: false
Supports Statistics: false
Supports Advanced Queries: false
Use StandardizedQueries: true
Raster Type Infos:
Name: Raster Dataset
Description: Supports all ArcGIS Raster Datasets
Help:
Has Raster Attribute Table: false
Edit Fields Info: null
Ownership Based AccessControl For Rasters: null
Child Resources:
Info
Histograms
Statistics
Key Properties
Legend
Raster Function Infos
Supported Operations:
Export Image
Identify
Measure
Compute Histograms
Compute Statistics Histograms
Get Samples
Compute Class Statistics
Query Boundary
Compute Pixel Location
Compute Angles
Validate
Project