{
 "currentVersion": 11.2,
 "serviceDescription": "GEOS450_Capstone_Group4_Custom_Tools/NDWI_Test2_tif",
 "name": "GEOS450_Capstone_Group4_Custom_Tools/NDWI_Test2_tif",
 "description": "",
 "extent": {
  "xmin": -1.2824729580393339E7,
  "ymin": 6325781.984311254,
  "xmax": -1.278598633605679E7,
  "ymax": 6380776.371057431,
  "spatialReference": {
   "wkid": 102100,
   "latestWkid": 3857
  }
 },
 "initialExtent": {
  "xmin": -1.2824729580393339E7,
  "ymin": 6325781.984311254,
  "xmax": -1.278598633605679E7,
  "ymax": 6380776.371057431,
  "spatialReference": {
   "wkid": 102100,
   "latestWkid": 3857
  }
 },
 "fullExtent": {
  "xmin": -1.2824729580393339E7,
  "ymin": 6325781.984311254,
  "xmax": -1.278598633605679E7,
  "ymax": 6380776.371057431,
  "spatialReference": {
   "wkid": 102100,
   "latestWkid": 3857
  }
 },
 "sortableFields": "",
 "bandCount": 1,
 "pixelType": "F32",
 "minValues": [
  -0.99734044075012
 ],
 "maxValues": [
  0.72736519575119
 ],
 "meanValues": [
  -0.47018917596573
 ],
 "stdvValues": [
  0.24533198961291
 ],
 "hasMultidimensions": false,
 "pixelSizeX": 7.965305167876068,
 "pixelSizeY": 7.8373075026617425,
 "meanPixelSize": 7.901306335268905,
 "datasetFormat": "TIFF",
 "uncompressedSize": 136522752,
 "blockWidth": 128,
 "blockHeight": 128,
 "compressionType": "None",
 "bandNames": [
  "Band_1"
 ],
 "allowCopy": true,
 "allowAnalysis": true,
 "itemAccess": false,
 "inspectionCapabilities": "",
 "noDataValue": 3.3999999521443642E38,
 "noDataValues": [
  3.3999999521443642E38
 ],
 "minPixelSize": 0,
 "maxPixelSize": 0,
 "copyrightText": "",
 "serviceDataType": "esriImageServiceDataTypeGeneric",
 "serviceSourceType": "esriImageServiceSourceTypeDataset",
 "objectIdField": "",
 "fields": [],
 "capabilities": "Image,Metadata,Mensuration",
 "defaultMosaicMethod": "Center",
 "allowedMosaicMethods": "",
 "sortField": "",
 "sortValue": null,
 "sortAscending": true,
 "mosaicOperator": "First",
 "defaultCompressionQuality": 75,
 "defaultResamplingMethod": "Bilinear",
 "maxImageHeight": 4100,
 "maxImageWidth": 15000,
 "allowRasterFunction": true,
 "rasterFunctionInfos": [
  {
   "name": "None",
   "description": "",
   "help": ""
  }
 ],
 "rasterTypeInfos": [
  {
   "name": "Raster Dataset",
   "description": "Supports all ArcGIS Raster Datasets",
   "help": ""
  }
 ],
 "mensurationCapabilities": "Basic",
 "hasHistograms": true,
 "hasColormap": false,
 "hasRasterAttributeTable": false,
 "minScale": 0,
 "maxScale": 0,
 "exportTilesAllowed": false,
 "supportsStatistics": false,
 "supportsAdvancedQueries": false,
 "editFieldsInfo": null,
 "ownershipBasedAccessControlForRasters": null,
 "allowComputeTiePoints": false,
 "useStandardizedQueries": true,
 "advancedQueryCapabilities": {
  "useStandardizedQueries": true,
  "supportsStatistics": false,
  "supportsOrderBy": false,
  "supportsDistinct": false,
  "supportsPagination": false
 },
 "spatialReference": {
  "wkid": 102100,
  "latestWkid": 3857
 }
}
